BEGIN:VCALENDAR
VERSION:2.0
PRODID:-//wp-events-plugin.com//7.2.3.1//EN
TZID:Europe/Brussels
X-WR-TIMEZONE:Europe/Brussels
BEGIN:VEVENT
UID:675@natuurgidsen-klein-brabant.com
DTSTART;TZID=Europe/Brussels:20241208T080000
DTEND;TZID=Europe/Brussels:20241208T090000
DTSTAMP:20241130T063659Z
URL:https://natuurgidsen-klein-brabant.com/events/winter-morning-walks-cas
 co-phil-the-chapel-kerk-van-mariekerke/
SUMMARY:Winter Morning Walks - Casco Phil - The Chapel ( Kerk van Mariekerk
 e )
DESCRIPTION:Voor de tweede keer  staat een ochtendwandeling rond de kerk v
 an Mariekerke op het voorprogramma van Winter Morning Walks van Casco Phil
 .\n\nhttps://cascophil.be/events/winter-morning-walks-3/\n\nProgramma:\n\n
 8 uur: start van de wandeling gegidst door Natuurgidsen Klein-Brabant\n9 u
 ur: concert\n10 uur: ontbijt\n\nInschrijven is wel verplicht  via de webs
 ite van CC Ter Dilft\nPrijs\n\n\n\n 	\nBasistarief€18\n 	\n-19 tarief€
 12\n\n\n\nhttps://www.terdilft.be/activiteiten/winter-morning-walks\n\nHie
 ronder kan je enkele sfeerbeelden bekijken van de vorige editie\n\nhttps:/
 /www.youtube.com/watch?v=XLeZtG9c0wQ\n\n\n\n\n
ATTACH;FMTTYPE=image/jpeg:https://natuurgidsen-klein-brabant.com/wp-conten
 t/uploads/2023/12/Morning_Walks_Trailer_V4.00_00_36_05.Still007-460x300-1-
 e1702647870923.png
CATEGORIES:Casco Phil,Gids Pieter De Bruyn,Gids Tom Van Bel,Open Wandeling
 - Iedereen welkom
END:VEVENT
BEGIN:VTIMEZONE
TZID:Europe/Brussels
X-LIC-LOCATION:Europe/Brussels
BEGIN:STANDARD
DTSTART:20241027T020000
TZOFFSETFROM:+0200
TZOFFSETTO:+0100
TZNAME:CET
END:STANDARD
END:VTIMEZONE
END:VCALENDAR