BEGIN:VCALENDAR
VERSION:2.0
PRODID:-//wp-events-plugin.com//7.2.3.1//EN
TZID:Europe/Brussels
X-WR-TIMEZONE:Europe/Brussels
BEGIN:VEVENT
UID:459@natuurgidsen-klein-brabant.com
DTSTART;TZID=Europe/Brussels:20230326T140000
DTEND;TZID=Europe/Brussels:20230326T190000
DTSTAMP:20230326T090632Z
URL:https://natuurgidsen-klein-brabant.com/events/weert-voor-weertenaars/
SUMMARY: Weert binnenstebuiten voor en door Weertenaars
DESCRIPTION:Door het slechte weer is de wandeling afgelast en vervangen doo
 r verhalen vertellen in de Zilverreiger.\n\nIedereen welkom vanaf 14:00 uu
 r.\n\n&nbsp\;\n\n&nbsp\;\n\nOp zondag 26 maart (eerste dag van het zomeruu
 r) organiseren we een wandeling in Weert. Voor en door Weertenaars. Een wa
 ndeling vol verhalen over de natuur en onze lokale geschiedenis.\n\nNadien
  drinken we er eentje op in de Zilverreiger.\n\nPlaats samenkomst: voor de
  kerk\n\nBeginuur: 14:00\n\nEinduur: +/- 17:00\n\nNadien... Dat zien we we
 l\n\n&nbsp\;
CATEGORIES:Gids Cille Blondiau,Gids Jan De Bock,Privé Activiteit - Op
 Uitnodiging
LOCATION:Kerk Weert\, Appeldijkstraat 5\, Bornem\, België
GEO:51.099494;4.19284
X-APPLE-STRUCTURED-LOCATION;VALUE=URI;X-ADDRESS=Appeldijkstraat 5\, Bornem\
 , België;X-APPLE-RADIUS=100;X-TITLE=Kerk Weert:geo:51.099494,4.19284
END:VEVENT
BEGIN:VTIMEZONE
TZID:Europe/Brussels
X-LIC-LOCATION:Europe/Brussels
BEGIN:DAYLIGHT
DTSTART:20230326T030000
TZOFFSETFROM:+0100
TZOFFSETTO:+0200
TZNAME:CEST
END:DAYLIGHT
END:VTIMEZONE
END:VCALENDAR