BEGIN:VCALENDAR
VERSION:2.0
PRODID:-//wp-events-plugin.com//7.2.3.1//EN
TZID:Europe/Brussels
X-WR-TIMEZONE:Europe/Brussels
BEGIN:VEVENT
UID:297@natuurgidsen-klein-brabant.com
DTSTART;TZID=Europe/Brussels:20220418T140000
DTEND;TZID=Europe/Brussels:20220418T160000
DTSTAMP:20220330T191336Z
URL:https://natuurgidsen-klein-brabant.com/events/wandeling-in-de-molenbee
 kvallei-te-liezele/
SUMMARY:Wandeling in de molenbeekvallei te Liezele
DESCRIPTION:Bezoek onze infostand op de plantenmarkt en maak kennis met onz
 e reservaat percelen in Laenebemd of Liezelebroek\n\nVertrek 14 u en 15u!
CATEGORIES:Dries Lutz,Gids Sonia De Keyzer,Natuurpunt Klein - Brabant
END:VEVENT
BEGIN:VTIMEZONE
TZID:Europe/Brussels
X-LIC-LOCATION:Europe/Brussels
BEGIN:DAYLIGHT
DTSTART:20220327T030000
TZOFFSETFROM:+0100
TZOFFSETTO:+0200
TZNAME:CEST
END:DAYLIGHT
END:VTIMEZONE
END:VCALENDAR