BEGIN:VCALENDAR
VERSION:2.0
PRODID:-//wp-events-plugin.com//7.2.3.1//EN
TZID:Europe/Brussels
X-WR-TIMEZONE:Europe/Brussels
BEGIN:VEVENT
UID:397@natuurgidsen-klein-brabant.com
DTSTART;TZID=Europe/Brussels:20230910T140000
DTEND;TZID=Europe/Brussels:20230910T163000
DTSTAMP:20230901T132535Z
URL:https://natuurgidsen-klein-brabant.com/events/wandeling-door-het-land-
 van-de-boerenkrijg/
SUMMARY:Wandeling door het land van de boerenkrijg
DESCRIPTION:Een wandeling waar verleden en toekomst elkaar tegenkomen\, 225
  jaar geleden barste hier het protest tegen het harde en strenge Franse re
 gime los. In 1825 verdwijnt Nattenhaasdonck voorgoed in de Schelde en een 
 paar eeuwen later worden hier dijken gebouwd en overstromingsgebieden gecr
 eëerd.\n\nVertrek: Ingang  kasteel d'Ursel. Wolfgang d'Urselstraat 9 \, 
 2880 Hingene\n\nAfstand 8 km
CATEGORIES:Gids Sonia De Keyzer,Natuurgidsen Klein- Brabant,Open Wandeling
 - Iedereen welkom
LOCATION:Park d' Ursel:  ingang\, Wolfgang d'Urselstraat 9\, Bornem\, Antwe
 rpen\, 2880\, België
GEO:51.104907;4.271423
X-APPLE-STRUCTURED-LOCATION;VALUE=URI;X-ADDRESS=Wolfgang d'Urselstraat 9\, 
 Bornem\, Antwerpen\, 2880\, België;X-APPLE-RADIUS=100;X-TITLE=Park d' Urs
 el:  ingang:geo:51.104907,4.271423
END:VEVENT
BEGIN:VTIMEZONE
TZID:Europe/Brussels
X-LIC-LOCATION:Europe/Brussels
BEGIN:DAYLIGHT
DTSTART:20230326T030000
TZOFFSETFROM:+0100
TZOFFSETTO:+0200
TZNAME:CEST
END:DAYLIGHT
END:VTIMEZONE
END:VCALENDAR