BEGIN:VCALENDAR
VERSION:2.0
PRODID:-//wp-events-plugin.com//7.2.3.1//EN
TZID:Europe/Brussels
X-WR-TIMEZONE:Europe/Brussels
BEGIN:VEVENT
UID:162@natuurgidsen-klein-brabant.com
DTSTART;TZID=Europe/Brussels:20210814T140000
DTEND;TZID=Europe/Brussels:20210814T163000
DTSTAMP:20210802T093407Z
URL:https://natuurgidsen-klein-brabant.com/events/wandelen-in-spierbroek-2
 /
SUMMARY:Jachtvrije bossen en kwelgebieden
DESCRIPTION:Wandeling in Buitenland Spierbroek\n\nonder voorbehoud en met r
 espect van en voor coronaregels geldig die dag\n\nStart en einde cafe st v
 adde vitsdam bornem\n\nuur zoals vermeld op de site  ( om 14 uur zeker )\
 n\nThema kwellen en jachtvrije gebieden\n\nHet Spierbroek is een vochtig n
 atuurgebied van meer dan 40 ha in beheer bij Natuurpunt klein-brabant.\nhe
 t gebied toont de typische structuur van een natte laaggelegen poldergrond
  met af en toe kleine opstuivingen.\nInteressant zijn de kwellen die op he
 t terrein verspreid liggen. Natuurlijk heeft het gebied ook een bewogen ge
 schiedenis.\nZo loopt de derde Reek als een wandelweg door het gebied waar
  regelmatig vossen\, reeën en roofvogels te vinden zijn.\n\nDe laatste de
 cennia kwam het vooral in beeld in de strijd tegen de illegale jacht.\nIn 
 samenwerking met Vogelbescherming Vlaanderen is dit een van de eerste gebi
 eden dat werd uitgetekend\nuit het jachtbeheersplan\,  onder het motto : 
 schiet in actie !\n\nAnimo verzekerd op deze wandeling\, die traditioneel 
 ook wordt gevolgd door inwoners van Buitenland tijdens de Olympiade.\n\n\n
 [mapsmarker map="12"]
CATEGORIES:Gids Tom Van Bel,Open Wandeling - Iedereen welkom,Reserveren
 verplicht
LOCATION:T20: Spierbroek\, Roddam 97\, 2880 Bornem\, Bornem\, Antwerpen\, 2
 880\, Klein-Brabant\, België
GEO:51.106748;4.240450
X-APPLE-STRUCTURED-LOCATION;VALUE=URI;X-ADDRESS=Roddam 97\, 2880 Bornem\, B
 ornem\, Antwerpen\, 2880\, Klein-Brabant\, België;X-APPLE-RADIUS=100;X-TI
 TLE=T20: Spierbroek:geo:51.106748,4.240450
END:VEVENT
BEGIN:VTIMEZONE
TZID:Europe/Brussels
X-LIC-LOCATION:Europe/Brussels
BEGIN:DAYLIGHT
DTSTART:20210328T030000
TZOFFSETFROM:+0100
TZOFFSETTO:+0200
TZNAME:CEST
END:DAYLIGHT
END:VTIMEZONE
END:VCALENDAR