BEGIN:VCALENDAR
VERSION:2.0
PRODID:-//wp-events-plugin.com//7.2.3.1//EN
TZID:Europe/Brussels
X-WR-TIMEZONE:Europe/Brussels
BEGIN:VEVENT
UID:570@natuurgidsen-klein-brabant.com
DTSTART;TZID=Europe/Brussels:20231108T093000
DTEND;TZID=Europe/Brussels:20231108T113000
DTSTAMP:20231023T172517Z
URL:https://natuurgidsen-klein-brabant.com/events/voedselweb-en-biodiversi
 teit-arboretum/
SUMMARY:Voedselweb en biodiversiteit - Arboretum
DESCRIPTION:&nbsp\;\n\nVan: Ashley Bradley\nAdres: Molenstraat 7\, 2870 Puu
 rs-Sint-Amands\nSchool: GO! basisschool 't Kasteeltje\nTelefoon:\nEmail: 
 ashley.bradley@kasteeltje-puurs.be\n\nDatum: 2023-11-08\nBegin: 09:30\nEin
 de: 11:30\n\n\n\nKlas/leerjaar\nAantal Leerlingen\nLeerkrachten\n\n\nL5/L6
 \n51\n3\n\n\n\nGewenst gebied: 22. Arboretum\nAfspraakpunt:\n\nGewenst the
 ma: 9. Voedselweb en biodiversiteit
CATEGORIES:'t Kasteeltje,Gids Frans Hermans,Gids Sonia De Keyzer,School
 Wandeling - enkel studenten en leerkrachten
END:VEVENT
BEGIN:VTIMEZONE
TZID:Europe/Brussels
X-LIC-LOCATION:Europe/Brussels
BEGIN:STANDARD
DTSTART:20231029T020000
TZOFFSETFROM:+0200
TZOFFSETTO:+0100
TZNAME:CET
END:STANDARD
END:VTIMEZONE
END:VCALENDAR