BEGIN:VCALENDAR
VERSION:2.0
PRODID:-//wp-events-plugin.com//7.2.3.1//EN
TZID:Europe/Brussels
X-WR-TIMEZONE:Europe/Brussels
BEGIN:VEVENT
UID:275@natuurgidsen-klein-brabant.com
DTSTART;TZID=Europe/Brussels:20220424T100000
DTEND;TZID=Europe/Brussels:20220424T120000
DTSTAMP:20220131T195245Z
URL:https://natuurgidsen-klein-brabant.com/events/trage-wegen-wandeling-si
 nt-amands/
SUMMARY:Trage wegen wandeling Sint-Amands
DESCRIPTION:Vertrek: Sporthal Sint- Amands
CATEGORIES:Open Wandeling - Iedereen welkom,Werkgroep trage Wegen
END:VEVENT
BEGIN:VTIMEZONE
TZID:Europe/Brussels
X-LIC-LOCATION:Europe/Brussels
BEGIN:DAYLIGHT
DTSTART:20220327T030000
TZOFFSETFROM:+0100
TZOFFSETTO:+0200
TZNAME:CEST
END:DAYLIGHT
END:VTIMEZONE
END:VCALENDAR