BEGIN:VCALENDAR
VERSION:2.0
PRODID:-//wp-events-plugin.com//7.2.3.1//EN
TZID:Europe/Brussels
X-WR-TIMEZONE:Europe/Brussels
BEGIN:VEVENT
UID:461@natuurgidsen-klein-brabant.com
DTSTART;TZID=Europe/Brussels:20230322T090000
DTEND;TZID=Europe/Brussels:20230322T120000
DTSTAMP:20230313T125231Z
URL:https://natuurgidsen-klein-brabant.com/events/toegepast-ecologie-groot
 -schoor-hingene/
SUMMARY:Toegepast ecologie : Groot Schoor Hingene
DESCRIPTION:populaties\, ecosystemen\, aquatische systemen\, milieurecht en
  natuurbeheer !\n3de graad middelbaar: 7 studenten
CATEGORIES:De Linde,Gids Sonia De Keyzer,School Wandeling - enkel
 studenten en leerkrachten
END:VEVENT
BEGIN:VTIMEZONE
TZID:Europe/Brussels
X-LIC-LOCATION:Europe/Brussels
BEGIN:STANDARD
DTSTART:20221030T020000
TZOFFSETFROM:+0200
TZOFFSETTO:+0100
TZNAME:CET
END:STANDARD
END:VTIMEZONE
END:VCALENDAR