BEGIN:VCALENDAR
VERSION:2.0
PRODID:-//wp-events-plugin.com//7.2.3.1//EN
TZID:Europe/Brussels
X-WR-TIMEZONE:Europe/Brussels
BEGIN:VEVENT
UID:49@natuurgidsen-klein-brabant.com
DTSTART;TZID=Europe/Brussels:20190615T080000
DTEND;TZID=Europe/Brussels:20190615T103000
DTSTAMP:20200401T081959Z
URL:https://natuurgidsen-klein-brabant.com/events/stiltewandeling-4/
SUMMARY:Stiltewandeling
DESCRIPTION:
CATEGORIES:Gids Marleen Borms,Open Wandeling - Iedereen welkom
LOCATION:T  4: Domein Hertog D'Ursel\, Kouter & Paddenbroek\, D'ursel\, Bor
 nem\, Antwerpen\, 2880\, België
GEO:51.104728;4.271373
X-APPLE-STRUCTURED-LOCATION;VALUE=URI;X-ADDRESS=D'ursel\, Bornem\, Antwerpe
 n\, 2880\, België;X-APPLE-RADIUS=100;X-TITLE=T  4: Domein Hertog D'Ursel\
 , Kouter & Paddenbroek:geo:51.104728,4.271373
END:VEVENT
BEGIN:VTIMEZONE
TZID:Europe/Brussels
X-LIC-LOCATION:Europe/Brussels
BEGIN:DAYLIGHT
DTSTART:20190331T030000
TZOFFSETFROM:+0100
TZOFFSETTO:+0200
TZNAME:CEST
END:DAYLIGHT
END:VTIMEZONE
END:VCALENDAR