BEGIN:VCALENDAR
VERSION:2.0
PRODID:-//wp-events-plugin.com//7.2.3.1//EN
TZID:Europe/Brussels
X-WR-TIMEZONE:Europe/Brussels
BEGIN:VEVENT
UID:1000@natuurgidsen-klein-brabant.com
DTSTART;TZID=Europe/Brussels:20260802T140000
DTEND;TZID=Europe/Brussels:20260802T160000
DTSTAMP:20260420T120343Z
URL:https://natuurgidsen-klein-brabant.com/events/steek-er-wat-van-op-van-
 die-wespen/
SUMMARY:STEEK!... Er wat van op... van die wespen.
DESCRIPTION:Zondag 2 Augustus 2026 14u – 16u\n\nafspraak: Ingang Poort 
 ‘Hof ter Zielbeek’\n\nGids: Ilse Talboom\n\nHoe zielig toch\, als niem
 and van je houdt.\n\nVandaag gaan we het imago van de wesp een beetje opkr
 ikken.\n\nWe wandelen door het leven van verschillende wespen\, een onmisb
 aar insect.\n\nSommige zes potigen zijn voorgeprogrammeerd voor een sociaa
 l leven en andere leven solitair.\n\nDeze wandeling is gratis  met denk a
 an de gemeente Puurs-Sint-Amands .\n\nWel graag inschrijven\n\nvia  mail 
 : info@natuurgidsen-klein-brabant.com\n\nof via onderstaande link\n\n&nbsp
 \;
ATTACH;FMTTYPE=image/jpeg:https://natuurgidsen-klein-brabant.com/wp-conten
 t/uploads/2026/04/Afbeelding1-1.jpg
CATEGORIES:Gids Ilse Talboom,Open Wandeling - Iedereen welkom
LOCATION:Hof ter Zielbeek\, Sint-Katharinastraat 191\, Puurs \, Antwerpen\,
  2870\, België
GEO:51.07569;4.337302
X-APPLE-STRUCTURED-LOCATION;VALUE=URI;X-ADDRESS=Sint-Katharinastraat 191\, 
 Puurs \, Antwerpen\, 2870\, België;X-APPLE-RADIUS=100;X-TITLE=Hof ter Zie
 lbeek:geo:51.07569,4.337302
END:VEVENT
BEGIN:VTIMEZONE
TZID:Europe/Brussels
X-LIC-LOCATION:Europe/Brussels
BEGIN:DAYLIGHT
DTSTART:20260329T030000
TZOFFSETFROM:+0100
TZOFFSETTO:+0200
TZNAME:CEST
END:DAYLIGHT
END:VTIMEZONE
END:VCALENDAR