BEGIN:VCALENDAR
VERSION:2.0
PRODID:-//wp-events-plugin.com//7.2.3.1//EN
TZID:Europe/Brussels
X-WR-TIMEZONE:Europe/Brussels
BEGIN:VEVENT
UID:318@natuurgidsen-klein-brabant.com
DTSTART;TZID=Europe/Brussels:20220601T140000
DTEND;TZID=Europe/Brussels:20220601T160000
DTSTAMP:20220506T204118Z
URL:https://natuurgidsen-klein-brabant.com/events/schelde-sigma-kriebeldie
 rtjes-go-basisschool-boom-de-notelaer/
SUMMARY:Schelde -sigma- kriebeldiertjes - Go basisschool Boom-  De Notelaer
DESCRIPTION: Go basisschool Boom\n3 x 4de leerjaar\n\nwoensdag 1 juni: beg
 in 14u tot 16u\nAfspraakplaats poort de Notelaer:\nWe bezoeken het domein 
 de Notelaer ( kriebeldiertje enz )\nWe bezoeken de Scheldedijken  en een 
 stukje waar de sigmawerken gaan komen.\n
CATEGORIES:Gids Frans Hermans,Gids Lieve Willaert,Gids Sonia De
 Keyzer,School Wandeling - enkel studenten en leerkrachten
END:VEVENT
BEGIN:VTIMEZONE
TZID:Europe/Brussels
X-LIC-LOCATION:Europe/Brussels
BEGIN:DAYLIGHT
DTSTART:20220327T030000
TZOFFSETFROM:+0100
TZOFFSETTO:+0200
TZNAME:CEST
END:DAYLIGHT
END:VTIMEZONE
END:VCALENDAR