BEGIN:VCALENDAR
VERSION:2.0
PRODID:-//wp-events-plugin.com//7.2.3.1//EN
TZID:Europe/Brussels
X-WR-TIMEZONE:Europe/Brussels
BEGIN:VEVENT
UID:861@natuurgidsen-klein-brabant.com
DTSTART;TZID=Europe/Brussels:20251024T100000
DTEND;TZID=Europe/Brussels:20251024T120000
DTSTAMP:20250917T212621Z
URL:https://natuurgidsen-klein-brabant.com/events/rondje-noordelijke-eilan
 d-2/
SUMMARY:Rondje Noordelijke Eiland
DESCRIPTION:Van: Inge De Schepper\nAdres: Breendon-Dorp 94 (Puurs-Sint-Aman
 ds)\nSchool: Klavertjevier Breendonk\nTelefoon:\nEmail: inge.de.schepper@
 klavertjevier.be\n\nDatum: 2025-10-24\nGewenste dag: Vrijdag\nBegin: 10.00
 \nEinde: 12.00\n\n\n\nKlas/leerjaar\nAantal Leerlingen\nLeerkrachten\n\n\n
 6\n32\n2\n\n\n\nGewenst gebied: 24. Noordelijk Eiland\nAfspraakpunt:\n\nGe
 wenst thema: 15. Rondje Noordelijk eiland\n\nAndere info/vragen:
CATEGORIES:Gids Frans Hermans,Gids Hedwige Hofmans,Klavertjevier,School
 Wandeling - enkel studenten en leerkrachten
END:VEVENT
BEGIN:VTIMEZONE
TZID:Europe/Brussels
X-LIC-LOCATION:Europe/Brussels
BEGIN:DAYLIGHT
DTSTART:20250330T030000
TZOFFSETFROM:+0100
TZOFFSETTO:+0200
TZNAME:CEST
END:DAYLIGHT
END:VTIMEZONE
END:VCALENDAR