BEGIN:VCALENDAR
VERSION:2.0
PRODID:-//wp-events-plugin.com//7.2.3.1//EN
TZID:Europe/Brussels
X-WR-TIMEZONE:Europe/Brussels
BEGIN:VEVENT
UID:886@natuurgidsen-klein-brabant.com
DTSTART;TZID=Europe/Brussels:20251107T133000
DTEND;TZID=Europe/Brussels:20251107T153000
DTSTAMP:20251016T141521Z
URL:https://natuurgidsen-klein-brabant.com/events/rondje-noordelijk-eiland
 /
SUMMARY:Rondje Noordelijk eiland
DESCRIPTION:Van: Hilde Waumans\nAdres: V. Kegelsstraat 1\, 2880 Bornem\nSch
 ool: Huveneersschool Wintam\nTelefoon:\nEmail: hilde.waumans@huveneerssch
 ool.be\n\nDatum: 2025-11-07\nGewenste dag: Vrijdag\nBegin: 13:30\nEinde: 1
 5:30\n\n\n\nKlas/leerjaar\nAantal Leerlingen\nLeerkrachten\n\n\n6\n11\nHil
 de Waumans\n\n\n\nGewenst gebied: 6. Noordelijk eiland\nAfspraakpunt:\nPar
 king zeesluis Wintam\n\nGewenst thema: 15. Rondje Noordelijk eiland\n\nAnd
 ere info/vragen:\nGraag ook stil staan bij het klimaat – vervuiling – 
 eventueel sigma plan
CATEGORIES:Gids Tom Van Bel,Huveneersschool Wintam,School Wandeling -
 enkel studenten en leerkrachten
END:VEVENT
BEGIN:VTIMEZONE
TZID:Europe/Brussels
X-LIC-LOCATION:Europe/Brussels
BEGIN:STANDARD
DTSTART:20251026T020000
TZOFFSETFROM:+0200
TZOFFSETTO:+0100
TZNAME:CET
END:STANDARD
END:VTIMEZONE
END:VCALENDAR