BEGIN:VCALENDAR
VERSION:2.0
PRODID:-//wp-events-plugin.com//7.2.3.1//EN
TZID:Europe/Brussels
X-WR-TIMEZONE:Europe/Brussels
BEGIN:VEVENT
UID:750@natuurgidsen-klein-brabant.com
DTSTART;TZID=Europe/Brussels:20250413T140000
DTEND;TZID=Europe/Brussels:20250413T160000
DTSTAMP:20241221T105641Z
URL:https://natuurgidsen-klein-brabant.com/events/plantenwandeling-hof-ter
 -zielbeek/
SUMMARY:Plantenwandeling - Hof ter Zielbeek
DESCRIPTION:Daar is de lente\, daar is de zon\,\nBijna maar ik denk dat ze 
 weldra zal komen.\nDe fallus imputicus staat al in bloei en de blaadjes kr
 ijgen bomen…..\nNaar het Vrolijk Lentelied van Jan De Wilde\n\nzondag 13
  april 14u -16u\n\nVertrek : hoofdingang Hof ter Zielbeek\n\ngidsen : Cill
 e en Sonia\n\nde wandeling is gratis\n\nwel graag inschrijven via mail:\n\
 ninfo@natuurgidsen-klein-brabant.com\n\nof via onderstaande link
ATTACH;FMTTYPE=image/jpeg:https://natuurgidsen-klein-brabant.com/wp-conten
 t/uploads/2024/12/12-e1734456821898.jpg
CATEGORIES:Gids Cille Blondiau,Gids Sonia De Keyzer,Open Wandeling -
 Iedereen welkom
LOCATION:Hof ter Zielbeek\, Sint-Katharinastraat 191\, Puurs \, Antwerpen\,
  2870\, België
GEO:51.07569;4.337302
X-APPLE-STRUCTURED-LOCATION;VALUE=URI;X-ADDRESS=Sint-Katharinastraat 191\, 
 Puurs \, Antwerpen\, 2870\, België;X-APPLE-RADIUS=100;X-TITLE=Hof ter Zie
 lbeek:geo:51.07569,4.337302
END:VEVENT
BEGIN:VTIMEZONE
TZID:Europe/Brussels
X-LIC-LOCATION:Europe/Brussels
BEGIN:DAYLIGHT
DTSTART:20250330T030000
TZOFFSETFROM:+0100
TZOFFSETTO:+0200
TZNAME:CEST
END:DAYLIGHT
END:VTIMEZONE
END:VCALENDAR