BEGIN:VCALENDAR
VERSION:2.0
PRODID:-//wp-events-plugin.com//7.2.3.1//EN
TZID:Europe/Brussels
X-WR-TIMEZONE:Europe/Brussels
BEGIN:VEVENT
UID:139@natuurgidsen-klein-brabant.com
DTSTART;TZID=Europe/Brussels:20201009T131500
DTEND;TZID=Europe/Brussels:20201009T153000
DTSTAMP:20201006T090200Z
URL:https://natuurgidsen-klein-brabant.com/events/paddestoelenwandeling-de
 -appelboom/
SUMMARY:Paddestoelenwandeling  / De Appelboom
DESCRIPTION:        \n\n\nvrij\n9-okt.\n1315\npastoor Peeterstr\ndeappelboo
 m Branst/ juf Els\n1ste en 2de lj\nHoogheide/paddestoelen\n\n\nfrans en To
 m en sonia mee\n\n\n\n
CATEGORIES:Gids Frans Hermans,Gids Sonia De Keyzer,Gids Tom Van Bel,School
 Wandeling - enkel studenten en leerkrachten
LOCATION:T11: Kraaienbroek\, Planterijen\, Branstse Heide\, Kraeyhof\, Born
 em\, Antwerpen\, 2880\, België
GEO:51.078681;4.196526
X-APPLE-STRUCTURED-LOCATION;VALUE=URI;X-ADDRESS=Kraeyhof\, Bornem\, Antwerp
 en\, 2880\, België;X-APPLE-RADIUS=100;X-TITLE=T11: Kraaienbroek\, Planter
 ijen\, Branstse Heide:geo:51.078681,4.196526
END:VEVENT
BEGIN:VTIMEZONE
TZID:Europe/Brussels
X-LIC-LOCATION:Europe/Brussels
BEGIN:DAYLIGHT
DTSTART:20200329T030000
TZOFFSETFROM:+0100
TZOFFSETTO:+0200
TZNAME:CEST
END:DAYLIGHT
END:VTIMEZONE
END:VCALENDAR