BEGIN:VCALENDAR
VERSION:2.0
PRODID:-//wp-events-plugin.com//7.2.3.1//EN
TZID:Europe/Brussels
X-WR-TIMEZONE:Europe/Brussels
BEGIN:VEVENT
UID:438@natuurgidsen-klein-brabant.com
DTSTART;TZID=Europe/Brussels:20231008T143000
DTEND;TZID=Europe/Brussels:20231008T163000
DTSTAMP:20231114T182517Z
URL:https://natuurgidsen-klein-brabant.com/events/paddenstoelenwandeling-h
 of-van-coolhem/
SUMMARY:Paddenstoelenwandeling 1 : Hof van Coolhem
DESCRIPTION:Alg info. We leren meer over parasieten\, symbionten\, saprofyt
 en\, plaatjeszwammen\, boleten\, tonderzwammen aan de hand van de gevonden
  paddenstoelen. Lekkere\, eetbare\, giftige en dodelijke.\nVertrek : Coolh
 emstraat 64\, 2870 Puurs-Sint-Amands
CATEGORIES:Gids Frans Hermans,Open Wandeling - Iedereen welkom
LOCATION:Hof van Coolhem\, Coolhemstraat 64\, Puurs - Kalfort\, Antwerpen\,
  2870\, België
GEO:51.074346;4.306872
X-APPLE-STRUCTURED-LOCATION;VALUE=URI;X-ADDRESS=Coolhemstraat 64\, Puurs - 
 Kalfort\, Antwerpen\, 2870\, België;X-APPLE-RADIUS=100;X-TITLE=Hof van Co
 olhem:geo:51.074346,4.306872
END:VEVENT
BEGIN:VTIMEZONE
TZID:Europe/Brussels
X-LIC-LOCATION:Europe/Brussels
BEGIN:DAYLIGHT
DTSTART:20230326T030000
TZOFFSETFROM:+0100
TZOFFSETTO:+0200
TZNAME:CEST
END:DAYLIGHT
END:VTIMEZONE
END:VCALENDAR