BEGIN:VCALENDAR
VERSION:2.0
PRODID:-//wp-events-plugin.com//7.2.3.1//EN
TZID:Europe/Brussels
X-WR-TIMEZONE:Europe/Brussels
BEGIN:VEVENT
UID:923@natuurgidsen-klein-brabant.com
DTSTART;TZID=Europe/Brussels:20261025T143000
DTEND;TZID=Europe/Brussels:20261025T163000
DTSTAMP:20251126T215053Z
URL:https://natuurgidsen-klein-brabant.com/events/paddenstoelenwandeling-3
 -hof-ter-zielbeek/
SUMMARY:Paddenstoelenwandeling 3  Hof ter Zielbeek
DESCRIPTION:
CATEGORIES:Gids Frans Hermans,Open Wandeling - Iedereen welkom
END:VEVENT
BEGIN:VTIMEZONE
TZID:Europe/Brussels
X-LIC-LOCATION:Europe/Brussels
BEGIN:STANDARD
DTSTART:20261025T020000
TZOFFSETFROM:+0200
TZOFFSETTO:+0100
TZNAME:CET
END:STANDARD
END:VTIMEZONE
END:VCALENDAR