BEGIN:VCALENDAR
VERSION:2.0
PRODID:-//wp-events-plugin.com//7.2.3.1//EN
TZID:Europe/Brussels
X-WR-TIMEZONE:Europe/Brussels
BEGIN:VEVENT
UID:309@natuurgidsen-klein-brabant.com
DTSTART;TZID=Europe/Brussels:20221016T143000
DTEND;TZID=Europe/Brussels:20221016T153000
DTSTAMP:20221004T043947Z
URL:https://natuurgidsen-klein-brabant.com/events/paddenstoelenwandeling-2
 -2/
SUMMARY:Paddenstoelenwandeling 2: Lippelobos
DESCRIPTION:Alg.info en soorten met nadruk op sagen en verhalen. Eetbare en
  giftige.\n\nStart ter hoogte van eetcafé - de Wandeling\, Kasteeldreef\,
  11\, Lippelo- Puurs.\n\nDe wandeling is gratis wel inschrijven graag
CATEGORIES:Gids Frans Hermans,Open Wandeling - Iedereen welkom
LOCATION:T16: Lippelo\, kasteeldreef\, Puurs\, New York\, 2880\, België
GEO:51.038814;4.254398
X-APPLE-STRUCTURED-LOCATION;VALUE=URI;X-ADDRESS=kasteeldreef\, Puurs\, New 
 York\, 2880\, België;X-APPLE-RADIUS=100;X-TITLE=T16: Lippelo:geo:51.03881
 4,4.254398
END:VEVENT
BEGIN:VTIMEZONE
TZID:Europe/Brussels
X-LIC-LOCATION:Europe/Brussels
BEGIN:DAYLIGHT
DTSTART:20220327T030000
TZOFFSETFROM:+0100
TZOFFSETTO:+0200
TZNAME:CEST
END:DAYLIGHT
END:VTIMEZONE
END:VCALENDAR