BEGIN:VCALENDAR
VERSION:2.0
PRODID:-//wp-events-plugin.com//7.2.3.1//EN
TZID:Europe/Brussels
X-WR-TIMEZONE:Europe/Brussels
BEGIN:VEVENT
UID:649@natuurgidsen-klein-brabant.com
DTSTART;TZID=Europe/Brussels:20240929T143000
DTEND;TZID=Europe/Brussels:20240929T163000
DTSTAMP:20240701T134049Z
URL:https://natuurgidsen-klein-brabant.com/events/paddenstoelenwandeling-1
 -2/
SUMMARY:Paddenstoelenwandeling 1
DESCRIPTION:Hof van Coolhem\n\nCoolhemstraat 46  Kalfort\n\nPaddenstoelen 
 een zegen voor de mens?\n\nVan waar komen ze? Wat is hun doel? Hoe werken 
 ze? Met wat of wie?\n\nAlgemene info en determinatie. Eetbare\, lekkere \,
  giftige en dodelijke.
CATEGORIES:Gids Frans Hermans,Open Wandeling - Iedereen welkom
END:VEVENT
BEGIN:VTIMEZONE
TZID:Europe/Brussels
X-LIC-LOCATION:Europe/Brussels
BEGIN:DAYLIGHT
DTSTART:20240331T030000
TZOFFSETFROM:+0100
TZOFFSETTO:+0200
TZNAME:CEST
END:DAYLIGHT
END:VTIMEZONE
END:VCALENDAR