BEGIN:VCALENDAR
VERSION:2.0
PRODID:-//wp-events-plugin.com//7.2.3.1//EN
TZID:Europe/Brussels
X-WR-TIMEZONE:Europe/Brussels
BEGIN:VEVENT
UID:688@natuurgidsen-klein-brabant.com
DTSTART;TZID=Europe/Brussels:20241105T093000
DTEND;TZID=Europe/Brussels:20241105T114500
DTSTAMP:20240910T142244Z
URL:https://natuurgidsen-klein-brabant.com/events/paddenstoelen-hof-van-co
 olhem/
SUMMARY:Paddenstoelen - Hof van Coolhem
DESCRIPTION:Van: Ashley Bradley\nAdres: Molenstraat 7\, 2870 Puurs-Sint-Ama
 nds\nSchool: GO! basisschool 't Kasteeltje\nTelefoon:\nEmail: ashley.brad
 ley@kasteeltje-puurs.be\n\nDatum: 2024-11-05\nGewenste dag: Dinsdag\nBegin
 : 09:30\nEinde: 11:45\n\n\n\nKlas/leerjaar\nAantal Leerlingen\nLeerkrachte
 n\n\n\nL5\n23\nJuf Debby/Leen\n\n\nL6\n22\nJuf Ashley\n\n\n\nGewenst gebie
 d: 18. Hof van Coolhem\nAfspraakpunt:\nIngangspoort\, Coolhemstraat 64\, K
 alfort\n\nGewenst thema: 10. Paddenstoelen
CATEGORIES:'t Kasteeltje,Gids Frans Hermans,Gids Sonia De Keyzer,School
 Wandeling - enkel studenten en leerkrachten
END:VEVENT
BEGIN:VTIMEZONE
TZID:Europe/Brussels
X-LIC-LOCATION:Europe/Brussels
BEGIN:STANDARD
DTSTART:20241027T020000
TZOFFSETFROM:+0200
TZOFFSETTO:+0100
TZNAME:CET
END:STANDARD
END:VTIMEZONE
END:VCALENDAR