BEGIN:VCALENDAR
VERSION:2.0
PRODID:-//wp-events-plugin.com//7.2.3.1//EN
TZID:Europe/Brussels
X-WR-TIMEZONE:Europe/Brussels
BEGIN:VEVENT
UID:794@natuurgidsen-klein-brabant.com
DTSTART;TZID=Europe/Brussels:20251018T140000
DTEND;TZID=Europe/Brussels:20251018T160000
DTSTAMP:20250507T055705Z
URL:https://natuurgidsen-klein-brabant.com/events/over-wortels-en-zaden-br
 anst-bos-en-heide/
SUMMARY:Over wortels en zaden - Branst bos en heide
DESCRIPTION:In de herfst maakt de natuur zich op voor rust. Waar in de lent
 e alles naar boven schiet\, trekken veel planten zich nu juist terug in hu
 n wortels. Energie wordt opgeslagen voor de lente. Tegelijkertijd versprei
 den planten hun zaden\, vaak op ingenieuze manieren. Tijdens deze natuurwa
 ndeling in Branst ontdekken we hoe planten deze overgangstijd benutten. We
  staan stil bij herkenbare soorten\, hun overlevingsstrategieën en wat we
  met deze zaden en wortels kunnen doen.\nEen interessante wandeling langs 
 wortels\, zaden en de veerkracht van de natuur.\n\nDe wandeling is gratis.
 \n\nWel graag inschrijven via:info@natuurgidsen-klein-brabant.com\n\nof vi
 a onderstaande link
ATTACH;FMTTYPE=image/jpeg:https://natuurgidsen-klein-brabant.com/wp-conten
 t/uploads/2025/05/Berenklauw-6-van-6-scaled-e1746596861489.jpg
CATEGORIES:Gids Raf Van Daele,Open Wandeling - Iedereen welkom
LOCATION:Kerk  van Branst\, Branstsedreef  1\, Bornem\, 2880\, België
GEO:51.07968;4.200651
X-APPLE-STRUCTURED-LOCATION;VALUE=URI;X-ADDRESS=Branstsedreef  1\, Bornem\,
  2880\, België;X-APPLE-RADIUS=100;X-TITLE=Kerk  van Branst:geo:51.07968,4
 .200651
END:VEVENT
BEGIN:VTIMEZONE
TZID:Europe/Brussels
X-LIC-LOCATION:Europe/Brussels
BEGIN:DAYLIGHT
DTSTART:20250330T030000
TZOFFSETFROM:+0100
TZOFFSETTO:+0200
TZNAME:CEST
END:DAYLIGHT
END:VTIMEZONE
END:VCALENDAR