BEGIN:VCALENDAR
VERSION:2.0
PRODID:-//wp-events-plugin.com//7.2.3.1//EN
TZID:Europe/Brussels
X-WR-TIMEZONE:Europe/Brussels
BEGIN:VEVENT
UID:122@natuurgidsen-klein-brabant.com
DTSTART;TZID=Europe/Brussels:20200808T143000
DTEND;TZID=Europe/Brussels:20200808T170000
DTSTAMP:20200805T154353Z
URL:https://natuurgidsen-klein-brabant.com/events/open-zomer-wandeling-in-
 puurs-sint-amands/
SUMMARY:** afgelast ** Jaarlijkse wandeling bosreservaat Hof van Coolhem
DESCRIPTION:Sorry\, maar deze activiteit is omwille van Corona afgelast.
CATEGORIES:Gids Nils Meeus,Gids Pieter De Bruyn,Gids Sonia De Keyzer,Open
 Wandeling - Iedereen welkom
LOCATION:T14: Hof van Coolhem\, Coolhemdreef\, Puurs\, Antwerpen\, 2880\, B
 elgië
GEO:51.073172;4.306084
X-APPLE-STRUCTURED-LOCATION;VALUE=URI;X-ADDRESS=Coolhemdreef\, Puurs\, Antw
 erpen\, 2880\, België;X-APPLE-RADIUS=100;X-TITLE=T14: Hof van Coolhem:geo
 :51.073172,4.306084
END:VEVENT
BEGIN:VTIMEZONE
TZID:Europe/Brussels
X-LIC-LOCATION:Europe/Brussels
BEGIN:DAYLIGHT
DTSTART:20200329T030000
TZOFFSETFROM:+0100
TZOFFSETTO:+0200
TZNAME:CEST
END:DAYLIGHT
END:VTIMEZONE
END:VCALENDAR