BEGIN:VCALENDAR
VERSION:2.0
PRODID:-//wp-events-plugin.com//7.2.3.1//EN
TZID:Europe/Brussels
X-WR-TIMEZONE:Europe/Brussels
BEGIN:VEVENT
UID:15@natuurgidsen-klein-brabant.com
DTSTART;TZID=Europe/Brussels:20191027T000000
DTEND;TZID=Europe/Brussels:20191027T000000
DTSTAMP:20200401T053007Z
URL:https://natuurgidsen-klein-brabant.com/events/open-wandeling-paddestoe
 len/
SUMMARY:Open wandeling: Paddestoelen
DESCRIPTION:
CATEGORIES:Gids Cille Blondiau,Gids Frans Hermans,Open Wandeling -
 Iedereen welkom
LOCATION:T15: Tekbroek & Vallei van de Vliet\, Tekbroek\, Puurs\, Antwerpen
 \, 2870\, België
GEO:51.074213;4.271234
X-APPLE-STRUCTURED-LOCATION;VALUE=URI;X-ADDRESS=Tekbroek\, Puurs\, Antwerpe
 n\, 2870\, België;X-APPLE-RADIUS=100;X-TITLE=T15: Tekbroek & Vallei van d
 e Vliet:geo:51.074213,4.271234
END:VEVENT
BEGIN:VTIMEZONE
TZID:Europe/Brussels
X-LIC-LOCATION:Europe/Brussels
BEGIN:DAYLIGHT
DTSTART:20190331T030000
TZOFFSETFROM:+0100
TZOFFSETTO:+0200
TZNAME:CEST
END:DAYLIGHT
END:VTIMEZONE
END:VCALENDAR