BEGIN:VCALENDAR
VERSION:2.0
PRODID:-//wp-events-plugin.com//7.2.3.1//EN
TZID:Europe/Brussels
X-WR-TIMEZONE:Europe/Brussels
BEGIN:VEVENT
UID:599@natuurgidsen-klein-brabant.com
DTSTART;TZID=Europe/Brussels:20240414T140000
DTEND;TZID=Europe/Brussels:20240414T160000
DTSTAMP:20240116T105827Z
URL:https://natuurgidsen-klein-brabant.com/events/op/
SUMMARY:Op zoek naar de tjiftjaf in Spierbroek
DESCRIPTION:We vertrekken op de  parking van de glasbollen vlak bij de N16
  op de Vitsdam bij het begin van de derde Reek.\n\nBij regenweer zijn laar
 zen aangewezen.\n\nDe wandeling is gratis. Wel graag inschrijven via deze 
 link onderaan\n\nof via mail: info@natuurgidsen-klein-brabant.com
ATTACH;FMTTYPE=image/jpeg:https://natuurgidsen-klein-brabant.com/wp-conten
 t/uploads/2024/01/IMG_2631-scaled-e1705391643827.jpg
CATEGORIES:Gids Tom Van Bel,Open Wandeling - Iedereen welkom
LOCATION:Parking glasbollen nabij N16 Vitsdam\, Vitsdam \, Bornem\, 2880\, 
 België
GEO:51.106544;4.238048
X-APPLE-STRUCTURED-LOCATION;VALUE=URI;X-ADDRESS=Vitsdam \, Bornem\, 2880\, 
 België;X-APPLE-RADIUS=100;X-TITLE=Parking glasbollen nabij N16 Vitsdam:ge
 o:51.106544,4.238048
END:VEVENT
BEGIN:VTIMEZONE
TZID:Europe/Brussels
X-LIC-LOCATION:Europe/Brussels
BEGIN:DAYLIGHT
DTSTART:20240331T030000
TZOFFSETFROM:+0100
TZOFFSETTO:+0200
TZNAME:CEST
END:DAYLIGHT
END:VTIMEZONE
END:VCALENDAR