BEGIN:VCALENDAR
VERSION:2.0
PRODID:-//wp-events-plugin.com//7.2.3.1//EN
TZID:Europe/Brussels
X-WR-TIMEZONE:Europe/Brussels
BEGIN:VEVENT
UID:711@natuurgidsen-klein-brabant.com
DTSTART;TZID=Europe/Brussels:20241022T130000
DTEND;TZID=Europe/Brussels:20241022T151500
DTSTAMP:20240930T121341Z
URL:https://natuurgidsen-klein-brabant.com/events/op-stap-met-onze-zintuig
 en-nonnenbos/
SUMMARY:Op stap met onze zintuigen  - nonnenbos
DESCRIPTION:Van: Anne Janssens\nAdres: Sint-Amandsesteenweg 318\, 2880 Born
 em\nSchool: Sint-Bernardusschool\nTelefoon: 03/8891318\nEmail: anne.janss
 ens@bernardusschool.be\n\nDatum: 2024-10-22\nGewenste dag: dinsdag\nBegin:
  13:00\nEinde: 15:15\n\n\n\nKlas/leerjaar\nAantal Leerlingen\nLeerkrachten
 \n\n\n1A\n24\nLotte\n\n\n1B\n23\nAnne\n\n\n\nGewenst gebied: 9. Nonnenbos\
 nAfspraakpunt:\nSchoolpoort\nSchoolpoort\n\nGewenst thema: 12. Op stap met
  onze zintuigen
CATEGORIES:Gids Cille Blondiau,Gids Lieve Willaert,School Wandeling -
 enkel studenten en leerkrachten,St Bernardus
END:VEVENT
BEGIN:VTIMEZONE
TZID:Europe/Brussels
X-LIC-LOCATION:Europe/Brussels
BEGIN:DAYLIGHT
DTSTART:20240331T030000
TZOFFSETFROM:+0100
TZOFFSETTO:+0200
TZNAME:CEST
END:DAYLIGHT
END:VTIMEZONE
END:VCALENDAR