BEGIN:VCALENDAR
VERSION:2.0
PRODID:-//wp-events-plugin.com//7.2.3.1//EN
TZID:Europe/Brussels
X-WR-TIMEZONE:Europe/Brussels
BEGIN:VEVENT
UID:775@natuurgidsen-klein-brabant.com
DTSTART;TZID=Europe/Brussels:20250505T133000
DTEND;TZID=Europe/Brussels:20250505T150000
DTSTAMP:20250405T123757Z
URL:https://natuurgidsen-klein-brabant.com/events/op-bezoek-bij-de-imker/
SUMMARY:Op bezoek bij de imker
DESCRIPTION:Van: Yaëlle\nAdres: Jan Hammeneckerstraat 99\nSchool: De Kinde
 rplaneet\nTelefoon: 052340375\nEmail: yaelle.stange@kinderplaneet.eu\n\nD
 atum: 2025-05-05\nGewenste dag: Maandag\nBegin: 13u30\nEinde: 15u\n\n\n\nK
 las/leerjaar\nAantal Leerlingen\nLeerkrachten\n\n\n2K\n22\nJuf Ann\n\n\n3K
 \n22\nJuf Yaëlle\n\n\n\nGewenst gebied: Ander gebied\nAfspraakpunt:\n\nGe
 wenst thema: 4. Bijen
CATEGORIES:De Kinderplaneet,Gids Sonia De Keyzer,Gids Tom Van Bel,School
 Wandeling - enkel studenten en leerkrachten
END:VEVENT
BEGIN:VTIMEZONE
TZID:Europe/Brussels
X-LIC-LOCATION:Europe/Brussels
BEGIN:DAYLIGHT
DTSTART:20250330T030000
TZOFFSETFROM:+0100
TZOFFSETTO:+0200
TZNAME:CEST
END:DAYLIGHT
END:VTIMEZONE
END:VCALENDAR