BEGIN:VCALENDAR
VERSION:2.0
PRODID:-//wp-events-plugin.com//7.2.3.1//EN
TZID:Europe/Brussels
X-WR-TIMEZONE:Europe/Brussels
BEGIN:VEVENT
UID:518@natuurgidsen-klein-brabant.com
DTSTART;TZID=Europe/Brussels:20230915T133000
DTEND;TZID=Europe/Brussels:20230915T150000
DTSTAMP:20230801T194132Z
URL:https://natuurgidsen-klein-brabant.com/events/natuurleerpad-de-notelae
 r/
SUMMARY:Natuurleerpad - De notelaer
DESCRIPTION:3de en 4de leerjaar
CATEGORIES:De Brenne,Gids Marleen Borms,Gids Tom Van Bel,School Wandeling
 - enkel studenten en leerkrachten
END:VEVENT
BEGIN:VTIMEZONE
TZID:Europe/Brussels
X-LIC-LOCATION:Europe/Brussels
BEGIN:DAYLIGHT
DTSTART:20230326T030000
TZOFFSETFROM:+0100
TZOFFSETTO:+0200
TZNAME:CEST
END:DAYLIGHT
END:VTIMEZONE
END:VCALENDAR