BEGIN:VCALENDAR
VERSION:2.0
PRODID:-//wp-events-plugin.com//7.2.3.1//EN
TZID:Europe/Brussels
X-WR-TIMEZONE:Europe/Brussels
BEGIN:VEVENT
UID:807@natuurgidsen-klein-brabant.com
DTSTART;TZID=Europe/Brussels:20250920T093000
DTEND;TZID=Europe/Brussels:20250920T123000
DTSTAMP:20250724T131952Z
URL:https://natuurgidsen-klein-brabant.com/events/mycoclub-hoogheide-brans
 t/
SUMMARY:Mycoclub - Hoogheide Branst
DESCRIPTION:gids Frans\n\nvertrek kerk Branst
CATEGORIES:Enkel voor leden Mycoclub,Gids Frans Hermans
END:VEVENT
BEGIN:VTIMEZONE
TZID:Europe/Brussels
X-LIC-LOCATION:Europe/Brussels
BEGIN:DAYLIGHT
DTSTART:20250330T030000
TZOFFSETFROM:+0100
TZOFFSETTO:+0200
TZNAME:CEST
END:DAYLIGHT
END:VTIMEZONE
END:VCALENDAR