BEGIN:VCALENDAR
VERSION:2.0
PRODID:-//wp-events-plugin.com//7.2.3.1//EN
TZID:Europe/Brussels
X-WR-TIMEZONE:Europe/Brussels
BEGIN:VEVENT
UID:531@natuurgidsen-klein-brabant.com
DTSTART;TZID=Europe/Brussels:20231216T170000
DTEND;TZID=Europe/Brussels:20231216T200000
DTSTAMP:20231124T054559Z
URL:https://natuurgidsen-klein-brabant.com/events/midwinterwandeling-lippe
 lobos/
SUMMARY:Midwinterwandeling Lippelobos
DESCRIPTION:
CATEGORIES:Gids Pieter De Bruyn,Gids Sonia De Keyzer,Open Wandeling -
 Iedereen welkom
LOCATION:kerk Lippelo\, Lippelodorp\, Puurs - St. Amands\, Antwerpen\, 2870
 \, België
GEO:51.043724;4.260314
X-APPLE-STRUCTURED-LOCATION;VALUE=URI;X-ADDRESS=Lippelodorp\, Puurs - St. A
 mands\, Antwerpen\, 2870\, België;X-APPLE-RADIUS=100;X-TITLE=kerk Lippelo
 :geo:51.043724,4.260314
END:VEVENT
BEGIN:VTIMEZONE
TZID:Europe/Brussels
X-LIC-LOCATION:Europe/Brussels
BEGIN:STANDARD
DTSTART:20231029T020000
TZOFFSETFROM:+0200
TZOFFSETTO:+0100
TZNAME:CET
END:STANDARD
END:VTIMEZONE
END:VCALENDAR