BEGIN:VCALENDAR
VERSION:2.0
PRODID:-//wp-events-plugin.com//7.2.3.1//EN
TZID:Europe/Brussels
X-WR-TIMEZONE:Europe/Brussels
BEGIN:VEVENT
UID:441@natuurgidsen-klein-brabant.com
DTSTART;TZID=Europe/Brussels:20230309T193000
DTEND;TZID=Europe/Brussels:20230309T220000
DTSTAMP:20230220T070110Z
URL:https://natuurgidsen-klein-brabant.com/events/les-1-natuurverkenner-la
 ndschapslezen/
SUMMARY:Les 1 Natuurverkenner: Landschapslezen
DESCRIPTION:Waarover hebben we het ?\n\n1.Wat is een landschap?\n\n2.De opb
 ouw van een landschap\n\n3.Soorten landschappen\n\n4.Geschiedenis van het 
 landschap van Klein-Brabant\n\n5.Menselijke invloeden op onze rivieren\n\n
 6.De huidige Schelde\n\n7.De toekomst : De Sigmawerken\n\n8.Landschappen i
 n vogelvlucht\n\n9.Diverse biotopen\n\n10.Kleine landschapselementen\n\n11
 .Industrielandschap
CATEGORIES:Gids Lieve Willaert
LOCATION:De Krodde\, Barelstraat 183\, Bornem\, 2880\, België
GEO:51.087979;4.233475
X-APPLE-STRUCTURED-LOCATION;VALUE=URI;X-ADDRESS=Barelstraat 183\, Bornem\, 
 2880\, België;X-APPLE-RADIUS=100;X-TITLE=De Krodde:geo:51.087979,4.233475
END:VEVENT
BEGIN:VTIMEZONE
TZID:Europe/Brussels
X-LIC-LOCATION:Europe/Brussels
BEGIN:STANDARD
DTSTART:20221030T020000
TZOFFSETFROM:+0200
TZOFFSETTO:+0100
TZNAME:CET
END:STANDARD
END:VTIMEZONE
END:VCALENDAR