BEGIN:VCALENDAR
VERSION:2.0
PRODID:-//wp-events-plugin.com//7.2.3.1//EN
TZID:Europe/Brussels
X-WR-TIMEZONE:Europe/Brussels
BEGIN:VEVENT
UID:159@natuurgidsen-klein-brabant.com
DTSTART;TZID=Europe/Brussels:20210523T140000
DTEND;TZID=Europe/Brussels:20210523T163000
DTSTAMP:20210507T204132Z
URL:https://natuurgidsen-klein-brabant.com/events/lentebloesems/
SUMMARY:Lentebloesems voor kinderen én volwassenen
DESCRIPTION:Een geleide lentebloesemwandeling voor het hele gezin met een l
 euke afzonderlijke kinderwandeling voor -12 jarigen! Het domein met zijn r
 ijke geschiedenis brengt ons een mooie afwisseling van bossen\, waterparti
 jen\, nat hooiland en een prachtig park in Engelse landschapsstijl dat dat
 eert uit het midden van de 19de eeuw. Voor vele nog een verborgen parel i
 n de uithoek van Klein-Brabant!\n\nSchrijf je snel in\, want de plaatsen z
 ijn beperkt !\n\n[mapsmarker map="10"]
ATTACH;FMTTYPE=image/jpeg:https://natuurgidsen-klein-brabant.com/wp-conten
 t/uploads/2020/10/PDVB-Bloei-begin-mei-scaled-e1620109284809.jpg
CATEGORIES:Gids Lieve Willaert,Gids Nils Meeus,Gids Pieter De Bruyn,Gids
 Tom Van Bel,Open Wandeling - Iedereen welkom,Reserveren verplicht
LOCATION:T13: Hof Ter Zielbeek\, Sint-Katharinastraat 191\, Ruisbroek\, Ant
 werpen\, 2870\, België
GEO:51.075690;4.337302
X-APPLE-STRUCTURED-LOCATION;VALUE=URI;X-ADDRESS=Sint-Katharinastraat 191\, 
 Ruisbroek\, Antwerpen\, 2870\, België;X-APPLE-RADIUS=100;X-TITLE=T13: Hof
  Ter Zielbeek:geo:51.075690,4.337302
END:VEVENT
BEGIN:VTIMEZONE
TZID:Europe/Brussels
X-LIC-LOCATION:Europe/Brussels
BEGIN:DAYLIGHT
DTSTART:20210328T030000
TZOFFSETFROM:+0100
TZOFFSETTO:+0200
TZNAME:CEST
END:DAYLIGHT
END:VTIMEZONE
END:VCALENDAR