BEGIN:VCALENDAR
VERSION:2.0
PRODID:-//wp-events-plugin.com//7.2.3.1//EN
TZID:Europe/Brussels
X-WR-TIMEZONE:Europe/Brussels
BEGIN:VEVENT
UID:282@natuurgidsen-klein-brabant.com
DTSTART;TZID=Europe/Brussels:20220324T131500
DTEND;TZID=Europe/Brussels:20220324T150000
DTSTAMP:20220521T043334Z
URL:https://natuurgidsen-klein-brabant.com/events/lente-st-bernardusschool
 -abdijpark/
SUMMARY:Lente - St Bernardusschool - Abdijpark
DESCRIPTION:Van: Marie Hermans\nAdres: Sint-Amandsesteenweg 256\, Bornem\nS
 chool: Sint-Bernardus\nTelefoon:\nEmail: marie.hermans@bernardusschool.be
 \n\nDatum: 2022-03-24\nBegin: 13:15 à 13u30\nEinde: 15u\n\n&nbsp\;\n\n\n\
 nKlas/leerjaar\nAantal Leerlingen\nLeerkrachten\n\n\n\n\n\n2A\n13\nMarie\n
 \n\n\n\n\n2A\n14\nMarie\n\n\n\n\n\n\n&nbsp\;\n\nGewenst gebied: 12. Abdijp
 ark\nAfspraakpunt:\nGuilpoort\, tegenover Kloosterstraat 50\, Bornem\n\nGe
 wenst thema: 3. Lente\n\nAndere info/vragen:\nWe zijn met één grote klas
 \, maar indien mogelijk\, willen we dit terug in twee groepen doen. Vorig 
 jaar hadden we Tom Van Bel als gids en indien mogelijk\, willen we hem wel
  terug :-). Alvast erg bedan
CATEGORIES:Gids Frans Hermans,Gids Tom Van Bel,School Wandeling - enkel
 studenten en leerkrachten
END:VEVENT
BEGIN:VTIMEZONE
TZID:Europe/Brussels
X-LIC-LOCATION:Europe/Brussels
BEGIN:STANDARD
DTSTART:20211031T020000
TZOFFSETFROM:+0200
TZOFFSETTO:+0100
TZNAME:CET
END:STANDARD
END:VTIMEZONE
END:VCALENDAR