BEGIN:VCALENDAR
VERSION:2.0
PRODID:-//wp-events-plugin.com//7.2.3.1//EN
TZID:Europe/Brussels
X-WR-TIMEZONE:Europe/Brussels
BEGIN:VEVENT
UID:279@natuurgidsen-klein-brabant.com
DTSTART;TZID=Europe/Brussels:20220329T133000
DTEND;TZID=Europe/Brussels:20220329T150000
DTSTAMP:20220521T043442Z
URL:https://natuurgidsen-klein-brabant.com/events/lente-st-bernardus-schoo
 l-nonnenbos/
SUMMARY:Lente - St. Bernardus school - Nonnenbos
DESCRIPTION:Van: Viviane Meeus\nAdres: Sint-Amandsesteenweg\nSchool: Sint-B
 ernardusschool\nTelefoon:\nEmail: vivianemeeus@bernardusschool.be\n\nDatu
 m: 2022-03-29\nBegin: 13:30\nEinde: 15:00\n\n&nbsp\;\n\n\n\nKlas/leerjaar\
 nAantal Leerlingen\nLeerkrachten\n\n\n\n\n\n5A\n17\nViviane\n\n\n\n\n\n\n&
 nbsp\;\n\nGewenst gebied: 9. Nonnenbos\nAfspraakpunt:\nIngang parking voet
 balveld Luipegem\, Luipegem3-5\, Bornem\n\nGewenst thema: 3. Lente
CATEGORIES:Gids Lieve Willaert,School Wandeling - enkel studenten en
 leerkrachten
END:VEVENT
BEGIN:VTIMEZONE
TZID:Europe/Brussels
X-LIC-LOCATION:Europe/Brussels
BEGIN:DAYLIGHT
DTSTART:20220327T030000
TZOFFSETFROM:+0100
TZOFFSETTO:+0200
TZNAME:CEST
END:DAYLIGHT
END:VTIMEZONE
END:VCALENDAR