BEGIN:VCALENDAR
VERSION:2.0
PRODID:-//wp-events-plugin.com//7.2.3.1//EN
TZID:Europe/Brussels
X-WR-TIMEZONE:Europe/Brussels
BEGIN:VEVENT
UID:227@natuurgidsen-klein-brabant.com
DTSTART;TZID=Europe/Brussels:20220331T090000
DTEND;TZID=Europe/Brussels:20220331T103000
DTSTAMP:20220329T093534Z
URL:https://natuurgidsen-klein-brabant.com/events/lente-sint-carolus-schoo
 l-hof-ter-zielbeek/
SUMMARY:Lente - Hof ter Zielbeek - Sint Carolus school
DESCRIPTION:1ste Lj Juf Rebecca en 2de Lj Juf Anneleen\n\nPlantenbloei\, Be
 stuiving\, Insecten\, Dieren\, Gebruik van zintuigen
CATEGORIES:Gids Cille Blondiau,Gids Vonny Spiessens,School Wandeling -
 enkel studenten en leerkrachten
END:VEVENT
BEGIN:VTIMEZONE
TZID:Europe/Brussels
X-LIC-LOCATION:Europe/Brussels
BEGIN:DAYLIGHT
DTSTART:20220327T030000
TZOFFSETFROM:+0100
TZOFFSETTO:+0200
TZNAME:CEST
END:DAYLIGHT
END:VTIMEZONE
END:VCALENDAR