BEGIN:VCALENDAR
VERSION:2.0
PRODID:-//wp-events-plugin.com//7.2.3.1//EN
TZID:Europe/Brussels
X-WR-TIMEZONE:Europe/Brussels
BEGIN:VEVENT
UID:761@natuurgidsen-klein-brabant.com
DTSTART;TZID=Europe/Brussels:20250325T100000
DTEND;TZID=Europe/Brussels:20250325T120000
DTSTAMP:20250129T193551Z
URL:https://natuurgidsen-klein-brabant.com/events/lente-park-d-ursel-4/
SUMMARY:Lente - Park d' Ursel
DESCRIPTION:Van: Hannelore Mestdagh\nAdres: Pater Vertentenstraat 2A\, 9220
  Hamme\nSchool: Leefschool 't Veertje\nTelefoon:\nEmail: hannelore.mestda
 gh@gohamme.be\n\nDatum: 2025-03-25\nGewenste dag: Dinsdagvoormiddag\nBegin
 : 10:00\nEinde: 12:00\n\n\n\nKlas/leerjaar\nAantal Leerlingen\nLeerkrachte
 n\n\n\nHommels (3de en 4de leerjaar)\n28\nNele Melis\, Hannelore Mestdagh\
 n\n\n\nGewenst gebied: 5. Park d’ Ursel\nAfspraakpunt:\nHoofdingangspoor
 t: Wolfgang d’ Urselstraat 9\, Bornem\n\nGewenst thema: 3. Lente
CATEGORIES:Gids Lieve Willaert,Gids Sonia De Keyzer,Leefschool 't
 Veertje,School Wandeling - enkel studenten en leerkrachten
END:VEVENT
BEGIN:VTIMEZONE
TZID:Europe/Brussels
X-LIC-LOCATION:Europe/Brussels
BEGIN:STANDARD
DTSTART:20241027T020000
TZOFFSETFROM:+0200
TZOFFSETTO:+0100
TZNAME:CET
END:STANDARD
END:VTIMEZONE
END:VCALENDAR