BEGIN:VCALENDAR
VERSION:2.0
PRODID:-//wp-events-plugin.com//7.2.3.1//EN
TZID:Europe/Brussels
X-WR-TIMEZONE:Europe/Brussels
BEGIN:VEVENT
UID:852@natuurgidsen-klein-brabant.com
DTSTART;TZID=Europe/Brussels:20260512T131500
DTEND;TZID=Europe/Brussels:20260512T151500
DTSTAMP:20260109T183313Z
URL:https://natuurgidsen-klein-brabant.com/events/lente-omgeving-steenoven
 s/
SUMMARY:Lente - Omgeving Steenovens
DESCRIPTION:\n\n\n\n\n\nVan: Erika Van der Auwera\nAdres: J. Van Droogenbro
 eckstraat 49\, 2890 Puurs-Sint-Amands\nSchool: GO! De Schorre\nTelefoon:\n
 Email: erika.vanderauwera@bsdeschorre.be\n\nDatum: 2026-05-12\nGewenste d
 ag: Dinsdag\nBegin: 13:15\nEinde: 15:15\n\n\n\nKlas/leerjaar\nAantal Leerl
 ingen\nLeerkrachten\n\n\n2\n13\nmeester Dane\n\n\n3\n15\njuf Erika\n\n\n\n
 Gewenst gebied: 16. Omgeving Steenovens Sint-Amands\nAfspraakpunt:\nSchool
 poort\n\nGewenst thema: 3. Lente\n\n\n\n\n\n\n
CATEGORIES:Gids Daniella De Cock,Gids Lieve Willaert,School Wandeling -
 enkel studenten en leerkrachten
END:VEVENT
BEGIN:VTIMEZONE
TZID:Europe/Brussels
X-LIC-LOCATION:Europe/Brussels
BEGIN:DAYLIGHT
DTSTART:20260329T030000
TZOFFSETFROM:+0100
TZOFFSETTO:+0200
TZNAME:CEST
END:DAYLIGHT
END:VTIMEZONE
END:VCALENDAR