BEGIN:VCALENDAR
VERSION:2.0
PRODID:-//wp-events-plugin.com//7.2.3.1//EN
TZID:Europe/Brussels
X-WR-TIMEZONE:Europe/Brussels
BEGIN:VEVENT
UID:431@natuurgidsen-klein-brabant.com
DTSTART;TZID=Europe/Brussels:20230315T091500
DTEND;TZID=Europe/Brussels:20230315T111500
DTSTAMP:20230209T154729Z
URL:https://natuurgidsen-klein-brabant.com/events/lente-hof-van-coolhem/
SUMMARY:Lente - Hof van Coolhem
DESCRIPTION:Van: Nele Croes\nAdres: Breendonk-Dorp 94\nSchool: VBS Klavertj
 evier Breendonk\nTelefoon:\nEmail: nele.croes@klavertjevier.be\n\nDatum: 
 2023-03-15\nBegin: 09:15\nEinde: 11:15\n\n\n\nKlas/leerjaar\nAantal Leerli
 ngen\nLeerkrachten\n\n\n4\n36\nJuf Fien en juf Nele\n\n\n\nGewenst gebied:
  18. Hof van Coolhem\nAfspraakpunt:\nIngangspoort\, Coolhemstraat 64\, Kal
 fort\n\nGewenst thema: 3. Lente\n\nAndere info/vragen:\n2e graad lagere sc
 hool.
CATEGORIES:Gids Cille Blondiau,Gids Sonia De Keyzer,Klavertjevier,School
 Wandeling - enkel studenten en leerkrachten
LOCATION:Hof van Coolhem\, Coolhemstraat 64\, Puurs - Kalfort\, Antwerpen\,
  2870\, België
GEO:51.074346;4.306872
X-APPLE-STRUCTURED-LOCATION;VALUE=URI;X-ADDRESS=Coolhemstraat 64\, Puurs - 
 Kalfort\, Antwerpen\, 2870\, België;X-APPLE-RADIUS=100;X-TITLE=Hof van Co
 olhem:geo:51.074346,4.306872
END:VEVENT
BEGIN:VTIMEZONE
TZID:Europe/Brussels
X-LIC-LOCATION:Europe/Brussels
BEGIN:STANDARD
DTSTART:20221030T020000
TZOFFSETFROM:+0200
TZOFFSETTO:+0100
TZNAME:CET
END:STANDARD
END:VTIMEZONE
END:VCALENDAR