BEGIN:VCALENDAR
VERSION:2.0
PRODID:-//wp-events-plugin.com//7.2.3.1//EN
TZID:Europe/Brussels
X-WR-TIMEZONE:Europe/Brussels
BEGIN:VEVENT
UID:628@natuurgidsen-klein-brabant.com
DTSTART;TZID=Europe/Brussels:20240429T100000
DTEND;TZID=Europe/Brussels:20240429T120000
DTSTAMP:20240402T174514Z
URL:https://natuurgidsen-klein-brabant.com/events/lente-hof-van-coolhem-6/
SUMMARY:Lente - Hof van Coolhem
DESCRIPTION:Van: Niki Ceurstemont\nAdres: Breendonkdorp 94\nSchool: Klavert
 jevier Breendonk\nTelefoon:\nEmail: niki.ceurstemont@klavertjevier.be\n\n
 Datum: 2024-04-29\nGewenste dag: maandag\nBegin: 10:00\nEinde: 12:00\n\n\n
 \nKlas/leerjaar\nAantal Leerlingen\nLeerkrachten\n\n\n1A\n15\njuf Betty\n\
 n\n1B\n15\njuf Niki\n\n\n2A\n22\njuf Tiana\n\n\n2B\n22\nmeester Dries\n\n\
 n\nGewenst gebied: 18. Hof van Coolhem\nAfspraakpunt:\nIngangspoort\, Cool
 hemstraat 64\, Kalfort\n\nGewenst thema: 3. Lente
CATEGORIES:Gids Lieve Willaert,Gids Sonia De Keyzer,Gids Tom Van Bel,Gids
 Vonny Spiessens,Klavertjevier,School Wandeling - enkel studenten en
 leerkrachten
END:VEVENT
BEGIN:VTIMEZONE
TZID:Europe/Brussels
X-LIC-LOCATION:Europe/Brussels
BEGIN:DAYLIGHT
DTSTART:20240331T030000
TZOFFSETFROM:+0100
TZOFFSETTO:+0200
TZNAME:CEST
END:DAYLIGHT
END:VTIMEZONE
END:VCALENDAR