BEGIN:VCALENDAR
VERSION:2.0
PRODID:-//wp-events-plugin.com//7.2.3.1//EN
TZID:Europe/Brussels
X-WR-TIMEZONE:Europe/Brussels
BEGIN:VEVENT
UID:292@natuurgidsen-klein-brabant.com
DTSTART;TZID=Europe/Brussels:20220330T093000
DTEND;TZID=Europe/Brussels:20220330T113000
DTSTAMP:20220309T185146Z
URL:https://natuurgidsen-klein-brabant.com/events/lente-en-kriebelbeestjes
 -plattelandsklassen-park-d-ursel/
SUMMARY:Lente en kriebelbeestjes - Plattelandsklassen-  park d' Ursel
DESCRIPTION:4de leerjaar plattelandsklassen Drakenhof\n\ngroep 1 : 9u30- 10
 u30 lente\n\ngroep 2 : 10u30 - 11u30 kriebelbeestjes\n\ndan omwisselen\n\n
 &nbsp\;
CATEGORIES:Gids Lieve Willaert,Gids Sonia De Keyzer,School Wandeling -
 enkel studenten en leerkrachten
END:VEVENT
BEGIN:VTIMEZONE
TZID:Europe/Brussels
X-LIC-LOCATION:Europe/Brussels
BEGIN:DAYLIGHT
DTSTART:20220327T030000
TZOFFSETFROM:+0100
TZOFFSETTO:+0200
TZNAME:CEST
END:DAYLIGHT
END:VTIMEZONE
END:VCALENDAR