BEGIN:VCALENDAR
VERSION:2.0
PRODID:-//wp-events-plugin.com//7.2.3.1//EN
TZID:Europe/Brussels
X-WR-TIMEZONE:Europe/Brussels
BEGIN:VEVENT
UID:1002@natuurgidsen-klein-brabant.com
DTSTART;TZID=Europe/Brussels:20260504T130000
DTEND;TZID=Europe/Brussels:20260504T150000
DTSTAMP:20260423T194455Z
URL:https://natuurgidsen-klein-brabant.com/events/lente-branst-bos/
SUMMARY:Lente - Branst bos
DESCRIPTION:Van: Els Smet\nAdres: Pastoor Peetersstraat 10 Bornem\nSchool: 
 De Appelboom\nTelefoon: 03/889.39.16.\nEmail:\n\nDatum: maandag\, 04-mei-2
 026\nBegin uur: 13:00\nEinde uur: 15:00\n\n\n\nKlas/leerjaar\nAantal Leerl
 ingen\nLeerkrachten\n\n\n2de lj\n20\nJuf Els\n\n\n\nGewenst gebied: 13. Br
 anstse bossen en heide\nAfspraakpunt:\nSchoolpoort\nGewenst thema: 3. Len
 te
CATEGORIES:De appelboom,Gids Cille Blondiau,School Wandeling - enkel
 studenten en leerkrachten
END:VEVENT
BEGIN:VTIMEZONE
TZID:Europe/Brussels
X-LIC-LOCATION:Europe/Brussels
BEGIN:DAYLIGHT
DTSTART:20260329T030000
TZOFFSETFROM:+0100
TZOFFSETTO:+0200
TZNAME:CEST
END:DAYLIGHT
END:VTIMEZONE
END:VCALENDAR