BEGIN:VCALENDAR
VERSION:2.0
PRODID:-//wp-events-plugin.com//7.2.3.1//EN
TZID:Europe/Brussels
X-WR-TIMEZONE:Europe/Brussels
BEGIN:VEVENT
UID:601@natuurgidsen-klein-brabant.com
DTSTART;TZID=Europe/Brussels:20240526T133000
DTEND;TZID=Europe/Brussels:20240526T170000
DTSTAMP:20240430T141009Z
URL:https://natuurgidsen-klein-brabant.com/events/landschappen-in-klein-br
 abant-fietstocht/
SUMMARY:Landschappen in Klein-Brabant: fietstocht
DESCRIPTION:Deze fietstocht laat ons kennis maken met de verschillende land
 schappen in Bornem en Puurs Sint-Amands.\n\nWe vertrekken op de Abdijplein
  aan het standbeeld van Pedro Coloma\n\nSlikken en schorren \, broekbossen
 \, stuifzandruggen \, akkers en weiden: onze streek heeft een mooie variat
 ie aan landschappen.\n\nHoe ontstaat een landschap ? Wat zijn de kenmerken
 ? Hoe kan je een landschap lezen?\n\nDat kom je te weten tijdens deze fiet
 stocht van ongeveer 27 km.\n\nDe tocht eindigt op de kinderboerderij waar 
 we nog even kunnen genieten van de ecotuinendag .\n\nWat heb je nodig? Een
  fluohesje\, een degelijke fiets en een goed humeur !\n\nDeze fietstocht i
 s gratis.\n\nWel graag inschrijven via de link hieronder\n\nof via mail: i
 nfo@natuurgidsen-klein-brabant.com\n\nOpgelet: De plaatsen zijn beperkt!
ATTACH;FMTTYPE=image/jpeg:https://natuurgidsen-klein-brabant.com/wp-conten
 t/uploads/2024/01/Afbeelding1-e1705394272343.png
CATEGORIES:Fietstocht,Gids Lieve Willaert
LOCATION:Parking abdijplein\, Kloosterstraat 71\, Bornem\, Antwerpen\, 2880
 \, België
GEO:51.093797;4.226286
X-APPLE-STRUCTURED-LOCATION;VALUE=URI;X-ADDRESS=Kloosterstraat 71\, Bornem\
 , Antwerpen\, 2880\, België;X-APPLE-RADIUS=100;X-TITLE=Parking abdijplein
 :geo:51.093797,4.226286
END:VEVENT
BEGIN:VTIMEZONE
TZID:Europe/Brussels
X-LIC-LOCATION:Europe/Brussels
BEGIN:DAYLIGHT
DTSTART:20240331T030000
TZOFFSETFROM:+0100
TZOFFSETTO:+0200
TZNAME:CEST
END:DAYLIGHT
END:VTIMEZONE
END:VCALENDAR