BEGIN:VCALENDAR
VERSION:2.0
PRODID:-//wp-events-plugin.com//7.2.3.1//EN
TZID:Europe/Brussels
X-WR-TIMEZONE:Europe/Brussels
BEGIN:VEVENT
UID:979@natuurgidsen-klein-brabant.com
DTSTART;TZID=Europe/Brussels:20260428T133000
DTEND;TZID=Europe/Brussels:20260428T150000
DTSTAMP:20260320T061954Z
URL:https://natuurgidsen-klein-brabant.com/events/kriebeldiertjes-marieker
 ke-2/
SUMMARY:Kriebeldiertjes - Mariekerke
DESCRIPTION:Details aanvraag\n\nVan: juf Ann Segers\nAdres: J.Hammeneckerst
 raat 99\nSchool: De Kinderplaneet\nTelefoon: 0472977215\nEmail: ann.seger
 s@kinderplaneet.eu\n\nDatum: dinsdag\, 28-apr-2026\nBegin uur: 13:30\nEind
 e uur: 15:00\n\n\n\nKlas/leerjaar\nAantal Leerlingen\nLeerkrachten\n\n\n1K
 \n8\njuf Elke\n\n\n2K\n17\njuf Lina\n\n\n\n\n\n\n\n\n\n\n\n\n\nGewenst geb
 ied: 15. De Scheldedijken van Sint-Amands en Mariekerke\nAfspraakpunt:\n\n
 Gewenst thema: kriebeldiertjes
CATEGORIES:De Kinderplaneet,Gids Lieve Willaert,Gids Tom Van Bel,School
 Wandeling - enkel studenten en leerkrachten
END:VEVENT
BEGIN:VTIMEZONE
TZID:Europe/Brussels
X-LIC-LOCATION:Europe/Brussels
BEGIN:DAYLIGHT
DTSTART:20260329T030000
TZOFFSETFROM:+0100
TZOFFSETTO:+0200
TZNAME:CEST
END:DAYLIGHT
END:VTIMEZONE
END:VCALENDAR