BEGIN:VCALENDAR
VERSION:2.0
PRODID:-//wp-events-plugin.com//7.2.3.1//EN
TZID:Europe/Brussels
X-WR-TIMEZONE:Europe/Brussels
BEGIN:VEVENT
UID:323@natuurgidsen-klein-brabant.com
DTSTART;TZID=Europe/Brussels:20220620T090000
DTEND;TZID=Europe/Brussels:20220620T120000
DTSTAMP:20220616T170749Z
URL:https://natuurgidsen-klein-brabant.com/events/klimaatwandeling-st-aman
 ds-kastel/
SUMMARY:Klimaatwandeling: St Amands - Kastel
DESCRIPTION:Gemeente Puurs - Sint Amands
CATEGORIES:Gids Lieve Willaert,Privé Activiteit - Op Uitnodiging
END:VEVENT
BEGIN:VTIMEZONE
TZID:Europe/Brussels
X-LIC-LOCATION:Europe/Brussels
BEGIN:DAYLIGHT
DTSTART:20220327T030000
TZOFFSETFROM:+0100
TZOFFSETTO:+0200
TZNAME:CEST
END:DAYLIGHT
END:VTIMEZONE
END:VCALENDAR