BEGIN:VCALENDAR
VERSION:2.0
PRODID:-//wp-events-plugin.com//7.2.3.1//EN
TZID:Europe/Brussels
X-WR-TIMEZONE:Europe/Brussels
BEGIN:VEVENT
UID:305@natuurgidsen-klein-brabant.com
DTSTART;TZID=Europe/Brussels:20220512T093000
DTEND;TZID=Europe/Brussels:20220512T123000
DTSTAMP:20220425T110706Z
URL:https://natuurgidsen-klein-brabant.com/events/klimaatkoffer-sigma-wal-
 zwijn-labschool-2/
SUMMARY:Klimaatkoffer - Sigma Wal Zwijn- Labschool
DESCRIPTION:Vertrek  veer van Mariekerke
CATEGORIES:Gids Cille Blondiau,Gids Sonia De Keyzer,School Wandeling -
 enkel studenten en leerkrachten
END:VEVENT
BEGIN:VTIMEZONE
TZID:Europe/Brussels
X-LIC-LOCATION:Europe/Brussels
BEGIN:DAYLIGHT
DTSTART:20220327T030000
TZOFFSETFROM:+0100
TZOFFSETTO:+0200
TZNAME:CEST
END:DAYLIGHT
END:VTIMEZONE
END:VCALENDAR