BEGIN:VCALENDAR
VERSION:2.0
PRODID:-//wp-events-plugin.com//7.2.3.1//EN
TZID:Europe/Brussels
X-WR-TIMEZONE:Europe/Brussels
BEGIN:VEVENT
UID:381@natuurgidsen-klein-brabant.com
DTSTART;TZID=Europe/Brussels:20221007T093000
DTEND;TZID=Europe/Brussels:20221007T103000
DTSTAMP:20220923T144608Z
URL:https://natuurgidsen-klein-brabant.com/events/klimaatkoffer-hingene-ol
 vp/
SUMMARY:Klimaatkoffer- Hingene- Olvp
DESCRIPTION:Van: kristof anthonis\nAdres: Rijkenhoek 2 2880 Bornem\nSchool:
  OLVPLS\nTelefoon:\nEmail: kristof.anthonis@olvpls.be\n\nDatum: 2022-10-0
 7 en 14 oktober\nBegin: 09:30\nEinde: 11:30\n\n&nbsp\;\n\n\n\nKlas/leerjaa
 r\nAantal Leerlingen\nLeerkrachten\n\n\n\n\n\n5A\n20\nJelle\n\n\n\n\n\n5B\
 n21\nLinda\n\n\n\n\n\n5C\n21\nKristof\n\n\n\n\n\n\n&nbsp\;\n\nGewenst gebi
 ed: 4. Sigmagebieden Hingene\nAfspraakpunt:\nHoofdingangspoort De Notelaer
 : Notelaerdreef2\, Bornem\n\nGewenst thema: 6. Klimaat en sigma\n3) klimaa
 tkoffer
CATEGORIES:Gids Cille Blondiau,Gids Sonia De Keyzer,School Wandeling -
 enkel studenten en leerkrachten
END:VEVENT
BEGIN:VTIMEZONE
TZID:Europe/Brussels
X-LIC-LOCATION:Europe/Brussels
BEGIN:DAYLIGHT
DTSTART:20220327T030000
TZOFFSETFROM:+0100
TZOFFSETTO:+0200
TZNAME:CEST
END:DAYLIGHT
END:VTIMEZONE
END:VCALENDAR