BEGIN:VCALENDAR
VERSION:2.0
PRODID:-//wp-events-plugin.com//7.2.3.1//EN
TZID:Europe/Brussels
X-WR-TIMEZONE:Europe/Brussels
BEGIN:VEVENT
UID:644@natuurgidsen-klein-brabant.com
DTSTART;TZID=Europe/Brussels:20240920T093000
DTEND;TZID=Europe/Brussels:20240920T113000
DTSTAMP:20240524T095308Z
URL:https://natuurgidsen-klein-brabant.com/events/klimaatkoffer-groot-scho
 or-hingene-2/
SUMMARY:Klimaatkoffer Groot Schoor Hingene
DESCRIPTION:3 x 5de leerjaar
CATEGORIES:Gids Lieve Willaert,Gids Tom Van Bel,Olvp Lagere school,School
 Wandeling - enkel studenten en leerkrachten
END:VEVENT
BEGIN:VTIMEZONE
TZID:Europe/Brussels
X-LIC-LOCATION:Europe/Brussels
BEGIN:DAYLIGHT
DTSTART:20240331T030000
TZOFFSETFROM:+0100
TZOFFSETTO:+0200
TZNAME:CEST
END:DAYLIGHT
END:VTIMEZONE
END:VCALENDAR