BEGIN:VCALENDAR
VERSION:2.0
PRODID:-//wp-events-plugin.com//7.2.3.1//EN
TZID:Europe/Brussels
X-WR-TIMEZONE:Europe/Brussels
BEGIN:VEVENT
UID:373@natuurgidsen-klein-brabant.com
DTSTART;TZID=Europe/Brussels:20220927T130000
DTEND;TZID=Europe/Brussels:20220927T150000
DTSTAMP:20220915T191322Z
URL:https://natuurgidsen-klein-brabant.com/events/klimaatkoffer-de-notelae
 r-hinkelpad/
SUMMARY:Klimaatkoffer - de Notelaer - Hinkelpad
DESCRIPTION:Van: Elien Ooms\nAdres: Sint-Amandsesteenweg 224\nSchool: GO! f
 reinetschool 't Hinkelpad\nTelefoon: 03 889 12 71\nEmail: sofie.vyncke@hi
 nkelpad.be\n\nDatum: 2022-09-27\nBegin: 13:00\nEinde: 15:00\n\n&nbsp\;\n\n
 \n\nKlas/leerjaar\nAantal Leerlingen\nLeerkrachten\n\n\n\n\n\n6e leerjaar\
 n22\nSofie Vyncke\n\n\n\n\n\n\n&nbsp\;\n\nGewenst gebied: 1. De Notelaer\n
 Afspraakpunt:\nHoofdingangspoort De Notelaer: Notelaerdreef 2\, Bornem\n\n
 Gewenst thema: 6. Klimaat en sigma\n3) klimaatkoffer\n\nAndere info/vragen
 :\nHet beginuur kan gewijzigd worden als het nodig is.\nHet einduur niet.
CATEGORIES:Gids Lieve Willaert,School Wandeling - enkel studenten en
 leerkrachten
END:VEVENT
BEGIN:VTIMEZONE
TZID:Europe/Brussels
X-LIC-LOCATION:Europe/Brussels
BEGIN:DAYLIGHT
DTSTART:20220327T030000
TZOFFSETFROM:+0100
TZOFFSETTO:+0200
TZNAME:CEST
END:DAYLIGHT
END:VTIMEZONE
END:VCALENDAR