BEGIN:VCALENDAR
VERSION:2.0
PRODID:-//wp-events-plugin.com//7.2.3.1//EN
TZID:Europe/Brussels
X-WR-TIMEZONE:Europe/Brussels
BEGIN:VEVENT
UID:398@natuurgidsen-klein-brabant.com
DTSTART;TZID=Europe/Brussels:20230527T133000
DTEND;TZID=Europe/Brussels:20230527T173000
DTSTAMP:20230411T194827Z
URL:https://natuurgidsen-klein-brabant.com/events/klimaatfietstocht-wal-zw
 ijn-driegoten/
SUMMARY:KLIMAATFIETSTOCHT WAL - ZWIJN - DRIEGOTEN
DESCRIPTION:Tijdens het Palingfestival organiseren de natuurgidsen  een fi
 etstocht naar de overkant !\n\nDaar ontdekken we de nieuwe Sigmagebieden e
 n vragen we ons af  hoe  we ons best kunnen aanpassen  aan de gevolgen 
 van de opwarming van de aarde.\n\nBovendien leren we  hoe het er in de to
 ekomst in Hingene zou  kunnen uitzien!\n\nVertrek: kaai van  Sint-Amands
 \n\nOp de terugweg is een stop in het mooie Mariekerke zeker mogelijk!\n\n
 Afstand: ongeveer 20 km\n\nDeze activiteit is gratis wel graag inschrijven
 .\n\n
ATTACH;FMTTYPE=image/jpeg:https://natuurgidsen-klein-brabant.com/wp-conten
 t/uploads/2022/06/Slikken-scaled-e1656181023315.jpg
CATEGORIES:Gids Lieve Willaert,Natuurgidsen Klein- Brabant
LOCATION:Kaai Sint Amands - glazen huis\, Kaai \, Sint Amands\, Antwerpen\,
  2890\, België
GEO:51.055982;4.201139
X-APPLE-STRUCTURED-LOCATION;VALUE=URI;X-ADDRESS=Kaai \, Sint Amands\, Antwe
 rpen\, 2890\, België;X-APPLE-RADIUS=100;X-TITLE=Kaai Sint Amands - glazen
  huis:geo:51.055982,4.201139
END:VEVENT
BEGIN:VTIMEZONE
TZID:Europe/Brussels
X-LIC-LOCATION:Europe/Brussels
BEGIN:DAYLIGHT
DTSTART:20230326T030000
TZOFFSETFROM:+0100
TZOFFSETTO:+0200
TZNAME:CEST
END:DAYLIGHT
END:VTIMEZONE
END:VCALENDAR