BEGIN:VCALENDAR
VERSION:2.0
PRODID:-//wp-events-plugin.com//7.2.3.1//EN
TZID:Europe/Brussels
X-WR-TIMEZONE:Europe/Brussels
BEGIN:VEVENT
UID:981@natuurgidsen-klein-brabant.com
DTSTART;TZID=Europe/Brussels:20260508T140000
DTEND;TZID=Europe/Brussels:20260508T160000
DTSTAMP:20260324T145844Z
URL:https://natuurgidsen-klein-brabant.com/events/klimaat-en-sigma-wal-zwi
 jn-3/
SUMMARY:Klimaat en sigma - Wal Zwijn
DESCRIPTION:35 lln
CATEGORIES:Gids Lieve Willaert,Gids Tom Van Bel,Labschool,School Wandeling
 - enkel studenten en leerkrachten
END:VEVENT
BEGIN:VTIMEZONE
TZID:Europe/Brussels
X-LIC-LOCATION:Europe/Brussels
BEGIN:DAYLIGHT
DTSTART:20260329T030000
TZOFFSETFROM:+0100
TZOFFSETTO:+0200
TZNAME:CEST
END:DAYLIGHT
END:VTIMEZONE
END:VCALENDAR