BEGIN:VCALENDAR
VERSION:2.0
PRODID:-//wp-events-plugin.com//7.2.3.1//EN
TZID:Europe/Brussels
X-WR-TIMEZONE:Europe/Brussels
BEGIN:VEVENT
UID:293@natuurgidsen-klein-brabant.com
DTSTART;TZID=Europe/Brussels:20220610T130000
DTEND;TZID=Europe/Brussels:20220610T150000
DTSTAMP:20220311T094326Z
URL:https://natuurgidsen-klein-brabant.com/events/klimaat-en-sigma-huvenee
 rsschool-wintam-sigmagebieden-hingene/
SUMMARY:Klimaat en sigma - Huveneersschool Wintam -  Sigmagebieden Hingene
DESCRIPTION:vertrek de Notelaer\n\n5de Lj 22 lln\n\n6de Lj 22 lln
CATEGORIES:Gids Lieve Willaert,Gids Sonia De Keyzer,School Wandeling -
 enkel studenten en leerkrachten
END:VEVENT
BEGIN:VTIMEZONE
TZID:Europe/Brussels
X-LIC-LOCATION:Europe/Brussels
BEGIN:DAYLIGHT
DTSTART:20220327T030000
TZOFFSETFROM:+0100
TZOFFSETTO:+0200
TZNAME:CEST
END:DAYLIGHT
END:VTIMEZONE
END:VCALENDAR